Package: clevRvis Version: 1.6.0 Command: /Library/Frameworks/R.framework/Resources/bin/R CMD check --install=check:clevRvis.install-out.txt --library=/Library/Frameworks/R.framework/Resources/library --no-vignettes --timings clevRvis_1.6.0.tar.gz StartedAt: 2025-02-04 01:19:02 -0500 (Tue, 04 Feb 2025) EndedAt: 2025-02-04 01:21:34 -0500 (Tue, 04 Feb 2025) EllapsedTime: 152.3 seconds RetCode: 0 Status: OK CheckDir: clevRvis.Rcheck Warnings: 0