Package: clevRvis Version: 1.6.0 Command: /Library/Frameworks/R.framework/Resources/bin/R CMD INSTALL clevRvis StartedAt: 2025-02-03 16:11:57 -0500 (Mon, 03 Feb 2025) EndedAt: 2025-02-03 16:12:18 -0500 (Mon, 03 Feb 2025) EllapsedTime: 21.4 seconds RetCode: 0 Status: OK