Package: clevRvis Version: 1.6.0 Command: /home/biocbuild/bbs-3.20-bioc/R/bin/R CMD check --install=check:clevRvis.install-out.txt --library=/home/biocbuild/bbs-3.20-bioc/R/site-library --timings clevRvis_1.6.0.tar.gz StartedAt: 2025-02-03 21:01:25 -0500 (Mon, 03 Feb 2025) EndedAt: 2025-02-03 21:02:32 -0500 (Mon, 03 Feb 2025) EllapsedTime: 67.0 seconds RetCode: 0 Status: OK CheckDir: clevRvis.Rcheck Warnings: 0