Package: clevRvis Version: 1.6.0 Command: /home/biocbuild/bbs-3.20-bioc/R/bin/R CMD INSTALL clevRvis StartedAt: 2025-02-03 15:46:46 -0500 (Mon, 03 Feb 2025) EndedAt: 2025-02-03 15:46:56 -0500 (Mon, 03 Feb 2025) EllapsedTime: 10.0 seconds RetCode: 0 Status: OK