Package: clevRvis Version: 1.6.0 Command: rm -rf clevRvis.buildbin-libdir && mkdir clevRvis.buildbin-libdir && F:\biocbuild\bbs-3.20-bioc\R\bin\R.exe CMD INSTALL --build --library=clevRvis.buildbin-libdir clevRvis_1.6.0.tar.gz StartedAt: 2025-02-04 08:12:58 -0500 (Tue, 04 Feb 2025) EndedAt: 2025-02-04 08:13:30 -0500 (Tue, 04 Feb 2025) EllapsedTime: 32.2 seconds RetCode: 0 Status: OK PackageFile: clevRvis_1.6.0.zip PackageFileSize: 2.249 MiB