Package: clevRvis
Version: 1.6.0
Command: /home/biocbuild/bbs-3.20-bioc/R/bin/R CMD INSTALL clevRvis
StartedAt: 2024-11-19 16:34:18 -0500 (Tue, 19 Nov 2024)
EndedAt: 2024-11-19 16:34:25 -0500 (Tue, 19 Nov 2024)
EllapsedTime: 6.9 seconds
RetCode: 0
Status: OK