Package: cliProfiler Version: 1.12.0 Command: /Library/Frameworks/R.framework/Resources/bin/R CMD INSTALL cliProfiler StartedAt: 2025-02-03 15:44:24 -0500 (Mon, 03 Feb 2025) EndedAt: 2025-02-03 15:45:34 -0500 (Mon, 03 Feb 2025) EllapsedTime: 69.9 seconds RetCode: 0 Status: OK