Package: cliProfiler Version: 1.12.0 Command: chmod a+r cliProfiler -R && F:\biocbuild\bbs-3.20-bioc\R\bin\R.exe CMD build --keep-empty-dirs --no-resave-data cliProfiler StartedAt: 2025-02-03 18:11:20 -0500 (Mon, 03 Feb 2025) EndedAt: 2025-02-03 18:12:58 -0500 (Mon, 03 Feb 2025) EllapsedTime: 98.3 seconds RetCode: 0 Status: OK PackageFile: cliProfiler_1.12.0.tar.gz PackageFileSize: 595.5 KiB