Package: clippda
Version: 1.56.0
Command: /Library/Frameworks/R.framework/Resources/bin/R CMD INSTALL clippda
StartedAt: 2025-02-17 16:39:57 -0500 (Mon, 17 Feb 2025)
EndedAt: 2025-02-17 16:40:06 -0500 (Mon, 17 Feb 2025)
EllapsedTime: 8.5 seconds
RetCode: 0
Status: OK