Package: clippda Version: 1.56.0 Command: /home/biocbuild/R/R/bin/R CMD build --keep-empty-dirs --no-resave-data clippda StartedAt: 2024-11-19 23:45:03 -0000 (Tue, 19 Nov 2024) EndedAt: 2024-11-19 23:46:13 -0000 (Tue, 19 Nov 2024) EllapsedTime: 70.1 seconds RetCode: 0 Status: OK PackageFile: clippda_1.56.0.tar.gz PackageFileSize: 1.481 <A href="http://en.wikipedia.org/wiki/MiB" target="_blank">MiB</A>