Package: clippda
Version: 1.55.0
Command: F:\biocbuild\bbs-3.20-bioc\R\bin\R.exe CMD INSTALL clippda
StartedAt: 2024-06-09 16:16:10 -0400 (Sun, 09 Jun 2024)
EndedAt: 2024-06-09 16:16:27 -0400 (Sun, 09 Jun 2024)
EllapsedTime: 17.4 seconds
RetCode: 0
Status: OK