Package: clippda
Version: 1.55.0
Command: C:\Users\biocbuild\bbs-3.20-bioc\R\bin\R.exe CMD check --no-multiarch --install=check:clippda.install-out.txt --library=C:\Users\biocbuild\bbs-3.20-bioc\R\library --no-vignettes --timings clippda_1.55.0.tar.gz
StartedAt: 2024-07-15 22:43:26 -0400 (Mon, 15 Jul 2024)
EndedAt: 2024-07-15 22:46:30 -0400 (Mon, 15 Jul 2024)
EllapsedTime: 184.6 seconds
RetCode: 0
Status: OK
CheckDir: clippda.Rcheck
Warnings: 0