Package: clippda Version: 1.56.0 Command: /home/biocbuild/R/R/bin/R CMD INSTALL clippda StartedAt: 2025-02-03 20:54:06 -0000 (Mon, 03 Feb 2025) EndedAt: 2025-02-03 20:54:15 -0000 (Mon, 03 Feb 2025) EllapsedTime: 9.2 seconds RetCode: 0 Status: OK