Package: clipper Version: 1.46.0 Command: /Library/Frameworks/R.framework/Resources/bin/R CMD INSTALL clipper StartedAt: 2025-02-03 15:52:10 -0500 (Mon, 03 Feb 2025) EndedAt: 2025-02-03 15:52:57 -0500 (Mon, 03 Feb 2025) EllapsedTime: 47.2 seconds RetCode: 0 Status: OK