Package: clipper Version: 1.46.0 Command: /home/biocbuild/bbs-3.20-bioc/R/bin/R CMD INSTALL clipper StartedAt: 2025-02-03 15:32:38 -0500 (Mon, 03 Feb 2025) EndedAt: 2025-02-03 15:33:19 -0500 (Mon, 03 Feb 2025) EllapsedTime: 40.9 seconds RetCode: 0 Status: OK