Package: clipper Version: 1.46.0 Command: /home/biocbuild/R/R/bin/R CMD build --keep-empty-dirs --no-resave-data clipper StartedAt: 2025-02-03 22:38:43 -0000 (Mon, 03 Feb 2025) EndedAt: 2025-02-03 22:40:13 -0000 (Mon, 03 Feb 2025) EllapsedTime: 90.0 seconds RetCode: 0 Status: OK PackageFile: clipper_1.46.0.tar.gz PackageFileSize: 998.7 KiB