Package: clipper Version: 1.46.0 Command: /home/biocbuild/R/R/bin/R CMD INSTALL clipper StartedAt: 2025-02-17 20:39:10 -0000 (Mon, 17 Feb 2025) EndedAt: 2025-02-17 20:39:58 -0000 (Mon, 17 Feb 2025) EllapsedTime: 48.1 seconds RetCode: 0 Status: OK