Package: cliqueMS Version: 1.20.0 Command: /Library/Frameworks/R.framework/Resources/bin/R CMD check --install=check:cliqueMS.install-out.txt --library=/Library/Frameworks/R.framework/Resources/library --no-vignettes --timings cliqueMS_1.20.0.tar.gz StartedAt: 2025-02-04 15:02:39 -0500 (Tue, 04 Feb 2025) EndedAt: 2025-02-04 15:09:51 -0500 (Tue, 04 Feb 2025) EllapsedTime: 432.6 seconds RetCode: 0 Status: WARNINGS CheckDir: cliqueMS.Rcheck Warnings: 1