Package: cliqueMS Version: 1.20.0 Command: /Library/Frameworks/R.framework/Resources/bin/R CMD INSTALL cliqueMS StartedAt: 2025-02-03 16:57:37 -0500 (Mon, 03 Feb 2025) EndedAt: 2025-02-03 16:58:50 -0500 (Mon, 03 Feb 2025) EllapsedTime: 72.7 seconds RetCode: 0 Status: OK