Package: cliqueMS Version: 1.20.0 Command: /home/biocbuild/R/R/bin/R CMD INSTALL cliqueMS StartedAt: 2025-02-03 21:02:59 -0000 (Mon, 03 Feb 2025) EndedAt: 2025-02-03 21:04:28 -0000 (Mon, 03 Feb 2025) EllapsedTime: 88.3 seconds RetCode: 0 Status: OK