Package: clst
Version: 1.54.0
Maintainer: Noah Hoffman
MaintainerEmail: ngh2 at uw.edu
git_url: https://git.bioconductor.org/packages/clst
git_branch: RELEASE_3_20
git_last_commit: 4cc5941
git_last_commit_date: 2024-10-29 09:36:05 -0500 (Tue, 29 Oct 2024)