Package: clst Version: 1.54.0 Command: /Library/Frameworks/R.framework/Resources/bin/R CMD check --install=check:clst.install-out.txt --library=/Library/Frameworks/R.framework/Resources/library --no-vignettes --timings clst_1.54.0.tar.gz StartedAt: 2025-02-04 15:05:31 -0500 (Tue, 04 Feb 2025) EndedAt: 2025-02-04 15:06:11 -0500 (Tue, 04 Feb 2025) EllapsedTime: 40.5 seconds RetCode: 0 Status: WARNINGS CheckDir: clst.Rcheck Warnings: 1