Package: clst
Version: 1.54.0
Command: rm -rf clst.buildbin-libdir && mkdir clst.buildbin-libdir && /Users/biocbuild/BBS/utils/build-universal.sh clst_1.54.0.tar.gz /Library/Frameworks/R.framework/Resources/bin/R clst.buildbin-libdir
StartedAt: 2024-11-09 16:42:38 -0500 (Sat, 09 Nov 2024)
EndedAt: 2024-11-09 16:42:40 -0500 (Sat, 09 Nov 2024)
EllapsedTime: 2.0 seconds
RetCode: 0
Status: OK
PackageFile: clst_1.54.0.tgz
PackageFileSize: 1.663 <A href="http://en.wikipedia.org/wiki/MiB" target="_blank">MiB</A>