Package: clst Version: 1.54.0 Command: /home/biocbuild/bbs-3.20-bioc/R/bin/R CMD INSTALL clst StartedAt: 2025-02-03 15:17:36 -0500 (Mon, 03 Feb 2025) EndedAt: 2025-02-03 15:17:55 -0500 (Mon, 03 Feb 2025) EllapsedTime: 18.8 seconds RetCode: 0 Status: OK