Package: clst Version: 1.54.0 Command: F:\biocbuild\bbs-3.20-bioc\R\bin\R.exe CMD check --no-multiarch --install=check:clst.install-out.txt --library=F:\biocbuild\bbs-3.20-bioc\R\library --no-vignettes --timings clst_1.54.0.tar.gz StartedAt: 2025-02-04 00:21:15 -0500 (Tue, 04 Feb 2025) EndedAt: 2025-02-04 00:21:58 -0500 (Tue, 04 Feb 2025) EllapsedTime: 43.0 seconds RetCode: 0 Status: WARNINGS CheckDir: clst.Rcheck Warnings: 1