Package: clst Version: 1.54.0 Command: /home/biocbuild/R/R/bin/R CMD build --keep-empty-dirs --no-resave-data clst StartedAt: 2025-02-03 22:39:43 -0000 (Mon, 03 Feb 2025) EndedAt: 2025-02-03 22:40:01 -0000 (Mon, 03 Feb 2025) EllapsedTime: 18.0 seconds RetCode: 0 Status: OK PackageFile: clst_1.54.0.tar.gz PackageFileSize: 1.006 MiB