Package: clst
Version: 1.54.0
Command: /home/biocbuild/R/R/bin/R CMD check --install=check:clst.install-out.txt --library=/home/biocbuild/R/R/site-library --no-vignettes --timings clst_1.54.0.tar.gz
StartedAt: 2025-02-18 05:14:51 -0000 (Tue, 18 Feb 2025)
EndedAt: 2025-02-18 05:15:22 -0000 (Tue, 18 Feb 2025)
EllapsedTime: 31.0 seconds
RetCode: 0
Status: WARNINGS
CheckDir: clst.Rcheck
Warnings: 1