Package: clustComp Version: 1.34.0 Command: rm -rf clustComp.buildbin-libdir && mkdir clustComp.buildbin-libdir && /Users/biocbuild/BBS/utils/build-universal.sh clustComp_1.34.0.tar.gz /Library/Frameworks/R.framework/Resources/bin/R clustComp.buildbin-libdir StartedAt: 2025-02-04 12:40:41 -0500 (Tue, 04 Feb 2025) EndedAt: 2025-02-04 12:40:50 -0500 (Tue, 04 Feb 2025) EllapsedTime: 8.6 seconds RetCode: 0 Status: OK PackageFile: clustComp_1.34.0.tgz PackageFileSize: 1018 KiB