Package: clustComp Version: 1.34.0 Command: /Library/Frameworks/R.framework/Resources/bin/R CMD INSTALL clustComp StartedAt: 2025-02-10 15:03:24 -0500 (Mon, 10 Feb 2025) EndedAt: 2025-02-10 15:03:42 -0500 (Mon, 10 Feb 2025) EllapsedTime: 17.9 seconds RetCode: 0 Status: OK