Package: clustComp Version: 1.34.0 Command: /home/biocbuild/bbs-3.20-bioc/R/bin/R CMD build --keep-empty-dirs --no-resave-data --md5 clustComp StartedAt: 2025-02-03 16:52:35 -0500 (Mon, 03 Feb 2025) EndedAt: 2025-02-03 16:53:34 -0500 (Mon, 03 Feb 2025) EllapsedTime: 59.1 seconds RetCode: 0 Status: OK PackageFile: clustComp_1.34.0.tar.gz PackageFileSize: 932.5 KiB