Package: clustComp Version: 1.34.0 Command: rm -rf clustComp.buildbin-libdir && mkdir clustComp.buildbin-libdir && F:\biocbuild\bbs-3.20-bioc\R\bin\R.exe CMD INSTALL --build --library=clustComp.buildbin-libdir clustComp_1.34.0.tar.gz StartedAt: 2025-02-04 08:13:23 -0500 (Tue, 04 Feb 2025) EndedAt: 2025-02-04 08:13:33 -0500 (Tue, 04 Feb 2025) EllapsedTime: 9.7 seconds RetCode: 0 Status: OK PackageFile: clustComp_1.34.0.zip PackageFileSize: 886.8 KiB