Package: clustComp Version: 1.34.0 Command: chmod a+r clustComp -R && F:\biocbuild\bbs-3.20-bioc\R\bin\R.exe CMD build --keep-empty-dirs --no-resave-data clustComp StartedAt: 2025-02-03 18:12:30 -0500 (Mon, 03 Feb 2025) EndedAt: 2025-02-03 18:13:45 -0500 (Mon, 03 Feb 2025) EllapsedTime: 74.5 seconds RetCode: 0 Status: OK PackageFile: clustComp_1.34.0.tar.gz PackageFileSize: 798.7 KiB