Package: clustComp Version: 1.34.0 Command: /home/biocbuild/R/R/bin/R CMD build --keep-empty-dirs --no-resave-data clustComp StartedAt: 2025-02-03 22:40:01 -0000 (Mon, 03 Feb 2025) EndedAt: 2025-02-03 22:41:14 -0000 (Mon, 03 Feb 2025) EllapsedTime: 73.0 seconds RetCode: 0 Status: OK PackageFile: clustComp_1.34.0.tar.gz PackageFileSize: 925.2 KiB