Package: clusterExperiment Version: 2.26.0 Command: rm -rf clusterExperiment.buildbin-libdir && mkdir clusterExperiment.buildbin-libdir && /Users/biocbuild/BBS/utils/build-universal.sh clusterExperiment_2.26.0.tar.gz /Library/Frameworks/R.framework/Resources/bin/R clusterExperiment.buildbin-libdir StartedAt: 2025-02-05 15:16:14 -0500 (Wed, 05 Feb 2025) EndedAt: 2025-02-05 15:17:31 -0500 (Wed, 05 Feb 2025) EllapsedTime: 77.4 seconds RetCode: 0 Status: OK PackageFile: clusterExperiment_2.26.0.tgz PackageFileSize: 13.06 MiB