Package: clusterExperiment Version: 2.26.0 Command: /Library/Frameworks/R.framework/Resources/bin/R CMD check --install=check:clusterExperiment.install-out.txt --library=/Library/Frameworks/R.framework/Resources/library --no-vignettes --timings clusterExperiment_2.26.0.tar.gz StartedAt: 2025-02-04 15:06:49 -0500 (Tue, 04 Feb 2025) EndedAt: 2025-02-04 15:22:08 -0500 (Tue, 04 Feb 2025) EllapsedTime: 918.3 seconds RetCode: 0 Status: WARNINGS CheckDir: clusterExperiment.Rcheck Warnings: 2