Package: clusterExperiment Version: 2.26.0 Command: /Library/Frameworks/R.framework/Resources/bin/R CMD INSTALL clusterExperiment StartedAt: 2025-02-03 16:35:21 -0500 (Mon, 03 Feb 2025) EndedAt: 2025-02-03 16:38:02 -0500 (Mon, 03 Feb 2025) EllapsedTime: 161.2 seconds RetCode: 0 Status: OK