Package: clusterExperiment Version: 2.26.0 Command: /home/biocbuild/bbs-3.20-bioc/R/bin/R CMD check --install=check:clusterExperiment.install-out.txt --library=/home/biocbuild/bbs-3.20-bioc/R/site-library --timings clusterExperiment_2.26.0.tar.gz StartedAt: 2025-02-03 21:04:17 -0500 (Mon, 03 Feb 2025) EndedAt: 2025-02-03 21:21:34 -0500 (Mon, 03 Feb 2025) EllapsedTime: 1037.2 seconds RetCode: 0 Status: WARNINGS CheckDir: clusterExperiment.Rcheck Warnings: 2