Package: clusterExperiment Version: 2.26.0 Command: /home/biocbuild/bbs-3.20-bioc/R/bin/R CMD INSTALL clusterExperiment StartedAt: 2025-02-03 16:00:42 -0500 (Mon, 03 Feb 2025) EndedAt: 2025-02-03 16:02:02 -0500 (Mon, 03 Feb 2025) EllapsedTime: 80.7 seconds RetCode: 0 Status: OK