Package: clusterExperiment Version: 2.26.0 Command: rm -rf clusterExperiment.buildbin-libdir && mkdir clusterExperiment.buildbin-libdir && F:\biocbuild\bbs-3.20-bioc\R\bin\R.exe CMD INSTALL --build --library=clusterExperiment.buildbin-libdir clusterExperiment_2.26.0.tar.gz StartedAt: 2025-02-04 08:13:25 -0500 (Tue, 04 Feb 2025) EndedAt: 2025-02-04 08:24:35 -0500 (Tue, 04 Feb 2025) EllapsedTime: 670.0 seconds RetCode: 0 Status: OK PackageFile: clusterExperiment_2.26.0.zip PackageFileSize: 9.016 MiB