Package: clusterExperiment Version: 2.26.0 Command: chmod a+r clusterExperiment -R && F:\biocbuild\bbs-3.20-bioc\R\bin\R.exe CMD build --keep-empty-dirs --no-resave-data clusterExperiment StartedAt: 2025-02-03 18:12:33 -0500 (Mon, 03 Feb 2025) EndedAt: 2025-02-03 18:24:58 -0500 (Mon, 03 Feb 2025) EllapsedTime: 745.4 seconds RetCode: 0 Status: OK PackageFile: clusterExperiment_2.26.0.tar.gz PackageFileSize: 7.726 MiB