Package: clusterExperiment Version: 2.26.0 Command: F:\biocbuild\bbs-3.20-bioc\R\bin\R.exe CMD INSTALL clusterExperiment StartedAt: 2025-02-03 16:49:22 -0500 (Mon, 03 Feb 2025) EndedAt: 2025-02-03 16:53:48 -0500 (Mon, 03 Feb 2025) EllapsedTime: 266.0 seconds RetCode: 0 Status: OK