Package: clusterProfiler Version: 4.14.4 Command: rm -rf clusterProfiler.buildbin-libdir && mkdir clusterProfiler.buildbin-libdir && /Users/biocbuild/BBS/utils/build-universal.sh clusterProfiler_4.14.4.tar.gz /Library/Frameworks/R.framework/Resources/bin/R clusterProfiler.buildbin-libdir StartedAt: 2025-02-05 15:16:35 -0500 (Wed, 05 Feb 2025) EndedAt: 2025-02-05 15:17:05 -0500 (Wed, 05 Feb 2025) EllapsedTime: 30.3 seconds RetCode: 0 Status: OK PackageFile: clusterProfiler_4.14.4.tgz PackageFileSize: 1.008 MiB