Package: clusterProfiler Version: 4.14.4 Command: /Library/Frameworks/R.framework/Resources/bin/R CMD build --keep-empty-dirs --no-resave-data clusterProfiler StartedAt: 2025-02-03 20:55:13 -0500 (Mon, 03 Feb 2025) EndedAt: 2025-02-03 20:55:45 -0500 (Mon, 03 Feb 2025) EllapsedTime: 32.4 seconds RetCode: 0 Status: OK PackageFile: clusterProfiler_4.14.4.tar.gz PackageFileSize: 610.8 KiB