Package: clusterProfiler Version: 4.14.4 Command: /Library/Frameworks/R.framework/Resources/bin/R CMD check --install=check:clusterProfiler.install-out.txt --library=/Library/Frameworks/R.framework/Resources/library --no-vignettes --timings clusterProfiler_4.14.4.tar.gz StartedAt: 2025-02-04 15:08:21 -0500 (Tue, 04 Feb 2025) EndedAt: 2025-02-04 15:12:52 -0500 (Tue, 04 Feb 2025) EllapsedTime: 270.6 seconds RetCode: 0 Status: OK CheckDir: clusterProfiler.Rcheck Warnings: 0