Package: clusterProfiler Version: 4.14.4 Command: /Library/Frameworks/R.framework/Resources/bin/R CMD INSTALL clusterProfiler StartedAt: 2025-02-03 17:12:49 -0500 (Mon, 03 Feb 2025) EndedAt: 2025-02-03 17:13:16 -0500 (Mon, 03 Feb 2025) EllapsedTime: 27.0 seconds RetCode: 0 Status: OK