Package: clusterSeq Version: 1.30.0 Command: /home/biocbuild/bbs-3.20-bioc/R/bin/R CMD check --install=check:clusterSeq.install-out.txt --library=/home/biocbuild/bbs-3.20-bioc/R/site-library --timings clusterSeq_1.30.0.tar.gz StartedAt: 2025-02-03 21:05:27 -0500 (Mon, 03 Feb 2025) EndedAt: 2025-02-03 21:09:23 -0500 (Mon, 03 Feb 2025) EllapsedTime: 236.3 seconds RetCode: 0 Status: OK CheckDir: clusterSeq.Rcheck Warnings: 0