Package: clusterSeq Version: 1.30.0 Command: /home/biocbuild/bbs-3.20-bioc/R/bin/R CMD INSTALL clusterSeq StartedAt: 2025-02-03 15:27:34 -0500 (Mon, 03 Feb 2025) EndedAt: 2025-02-03 15:27:47 -0500 (Mon, 03 Feb 2025) EllapsedTime: 13.1 seconds RetCode: 0 Status: OK