Package: clusterStab Version: 1.78.0 Command: /Library/Frameworks/R.framework/Resources/bin/R CMD build --keep-empty-dirs --no-resave-data clusterStab StartedAt: 2025-01-30 21:05:48 -0500 (Thu, 30 Jan 2025) EndedAt: 2025-01-30 21:06:07 -0500 (Thu, 30 Jan 2025) EllapsedTime: 19.2 seconds RetCode: 0 Status: OK PackageFile: clusterStab_1.78.0.tar.gz PackageFileSize: 185.4 KiB