Package: cmapR Version: 1.18.0 Command: /Library/Frameworks/R.framework/Resources/bin/R CMD check --install=check:cmapR.install-out.txt --library=/Library/Frameworks/R.framework/Resources/library --no-vignettes --timings cmapR_1.18.0.tar.gz StartedAt: 2025-02-04 15:12:52 -0500 (Tue, 04 Feb 2025) EndedAt: 2025-02-04 15:16:43 -0500 (Tue, 04 Feb 2025) EllapsedTime: 231.5 seconds RetCode: 0 Status: OK CheckDir: cmapR.Rcheck Warnings: 0