Package: cmapR
Version: 1.17.0
Command: rm -rf cmapR.buildbin-libdir && mkdir cmapR.buildbin-libdir && C:\Users\biocbuild\bbs-3.20-bioc\R\bin\R.exe CMD INSTALL --build --library=cmapR.buildbin-libdir cmapR_1.17.0.tar.gz
StartedAt: 2024-07-16 06:01:50 -0400 (Tue, 16 Jul 2024)
EndedAt: 2024-07-16 06:02:25 -0400 (Tue, 16 Jul 2024)
EllapsedTime: 34.9 seconds
RetCode: 0
Status: OK
PackageFile: cmapR_1.17.0.zip
PackageFileSize: 3.88 <A href="http://en.wikipedia.org/wiki/MiB" target="_blank">MiB</A>